BEGIN:VCALENDAR
PRODID:-//eluceo/ical//2.0/EN
VERSION:2.0
CALSCALE:GREGORIAN
BEGIN:VEVENT
UID:event-1447
DTSTAMP:20260420T062119Z
SUMMARY:Boskalisdag
DESCRIPTION:Op 11 mei is er weer een Boskalisdag! Dit jaar gaan we langs bi
 j het hoofdkantoor in Papendrecht. Tijdens de dag gaan we meer te weten ko
 men over Boskalis en haar activiteiten door middel van presentaties\, case
 s\, rondleidingen en het uitproberen van hun trainingssimulatoren! We vert
 rekken rond 8.30 en zijn 17.15 weer terug in Delft. Vervoer\, lunch en bor
 rel worden verzorgd. Er zijn in totaal 30 plaatsen beschikbaar en de insch
 rijvingen sluiten 30 april. De kosten voor de dag zijn 5 euro.   Tot slo
 t is de dresscode Froude correct verplicht. Dat houdt in (voor mannen): B
 lauw pak Wit/ lichtblauw hemd Froude das  Bruine/ zwarte schoenen en lang
 e sokken Vrouwen dienen zich net/formeel te kleden (pantalon\, witte blou
 se\, speldje enz). 
DTSTART:20260511T080000Z
DTEND:20260511T140000Z
END:VEVENT
BEGIN:VTIMEZONE
TZID:UTC
BEGIN:STANDARD
DTSTART:20260511T080000
TZNAME:UTC
TZOFFSETTO:+0000
TZOFFSETFROM:+0000
END:STANDARD
END:VTIMEZONE
END:VCALENDAR
